BEGIN:VCALENDAR
VERSION:2.0
METHOD:PUBLISH
PRODID:-//Event-List//NONSGML Event-List 4.6.3//DE
X-WR-TIMEZONE:Europe/Berlin
CALSCALE:GREGORIAN
BEGIN:VTIMEZONE
TZID:Europe/Berlin
BEGIN:DAYLIGHT
TZOFFSETFROM:+0100
TZOFFSETTO:+0200
DTSTART:19810329T020000
RRULE:FREQ=YEARLY;BYMONTH=3;BYDAY=-1SU
TZNAME:CEST
END:DAYLIGHT
BEGIN:STANDARD
TZOFFSETFROM:+0200
TZOFFSETTO:+0100
DTSTART:19961027T030000
RRULE:FREQ=YEARLY;BYMONTH=10;BYDAY=-1SU
TZNAME:CET
END:STANDARD
END:VTIMEZONE
BEGIN:VEVENT
DTSTAMP:20260425T033210
DTSTART:20050830T193000
DTEND:20050830T213000
UID:50@www.fofa.lu/calendar
CLASS:PUBLIC
SUMMARY:éischt Prouf vun der Saison
DESCRIPTION:Salut ech hoffen dir haat eng schéi Vakanz a freë mech iech all
  gesond erëmzegesinn. \nKommt all an d'Prouwen,well mir hunn der just 
  nach dräi fir de Kollegen aus dem Dall e flotten Concert ze blosen
  :-)\nde Chef
CATEGORIES:Musek
END:VEVENT
END:VCALENDAR